BEGIN:VCALENDAR
VERSION:2.0
PRODID:-//wp-events-plugin.com//7.2.3.1//EN
BEGIN:VEVENT
UID:14@parkinsongaliciacoruna.org
DTSTART:20260422T170000Z
DTEND:20260422T180000Z
DTSTAMP:20260421T160444Z
URL:https://parkinsongaliciacoruna.org/agenda/visita-guiada-exposicion-ann
 ie-leibovitz-en-la-fundacion-mop-2/
SUMMARY:Visita guiada: Exposición Annie Leibovitz en la Fundación MOP
DESCRIPTION:Nueva oportunidad para disfrutar de una visita guiada que nos a
 yudará a conocer la obra de la fotógrafa estadounidense\, Annie Leibovit
 z.\n\nLa cita será el miércoles 22 de abril a las 17h en la Fundación
  Marta Ortega Pérez (MOP) situado en el Muelle de Batería.\n\nEsta visit
 a es gratuita y su recorrido tiene una duración aproximada de 1h. Debido 
 a sus características es imprescindible la inscripción previa. La podé
 is hacer llamando al 981 241 100\, mandando un email a info@parkinsongali
 ciacoruna.org o en la propia oficina.\n\nLas plazas son limitadas y la in
 scripción es por orden hasta completar aforo. En el caso de no quedar pla
 zas disponibles las personas interesadas se apuntarán por orden en lista 
 de espera.\n\nLas personas con coche adaptado que deseen aparcar dentro 
 del recinto pueden enviarnos su número de matrícula a la hora de la insc
 ripción.
ATTACH;FMTTYPE=image/jpeg:https://parkinsongaliciacoruna.org/wp-content/up
 loads/2026/04/2026_04_22-VISITA-MARTA-ORTEGA.png
LOCATION:https://maps.app.goo.gl/J92EwhsRQFXay6uGA
END:VEVENT
END:VCALENDAR