BEGIN:VCALENDAR
VERSION:2.0
PRODID:-//wp-events-plugin.com//7.2.3.1//EN
BEGIN:VEVENT
UID:11@parkinsongaliciacoruna.org
DTSTART:20260326T140000Z
DTEND:20260326T150000Z
DTSTAMP:20260325T155854Z
URL:https://parkinsongaliciacoruna.org/agenda/traballo-en-rede-na-atencion
 -ao-parkinson-nos-ambitos-rurais-betanzos/
SUMMARY:Traballo en rede na atención ao Párkinson nos ámbitos rurais | B
 etanzos
DESCRIPTION:A Asociación Párkinson Galicia-Coruña continúa a impulsar
  accións formativas dirixidas a profesionais co obxectivo de mellorar a a
 tención ás persoas con enfermidade de Párkinson\, especialmente nos con
 tornos rurais.\nO xoves 26 de marzo\, ás 14 horas\, celebrarase a charla
  “Traballo en rede na atención ao Párkinson: unha resposta coordinada
  nos ámbitos rurais”\, en Betanzos.\nA sesión será impartida por San
 dra García\, responsable do Servizo de Fisioterapia da Asociación Párki
 nson Galicia-Coruña\, e está dirixida a profesionais sanitarios e dos se
 rvizos sociais interesados en coñecer modelos de coordinación e interven
 ción comunitaria na atención ao Párkinson.\nDurante a charla abordarase
  a importancia do traballo en rede como ferramenta clave para ofrecer unha
  atención integral\, próxima e adaptada ás necesidades das persoas con 
 Párkinson que viven en contornos rurais.
ATTACH;FMTTYPE=image/jpeg:https://parkinsongaliciacoruna.org/wp-content/up
 loads/2026/03/2026_03_26-TRABALLO-EN-REDE-BETANZOS-SANDRA-A4.png
END:VEVENT
END:VCALENDAR