BEGIN:VCALENDAR
VERSION:2.0
PRODID:-//wp-events-plugin.com//7.2.3.1//EN
BEGIN:VEVENT
UID:15@parkinsongaliciacoruna.org
DTSTART:20260429T160000Z
DTEND:20260429T180000Z
DTSTAMP:20260422T080354Z
URL:https://parkinsongaliciacoruna.org/agenda/escuela-de-cuidadores-cuidat
 e-para-cuidar-mejor-taller-de-acondicionamiento-fisico-para-personas-cuida
 doras/
SUMMARY:Escuela de cuidadores | Cuídate para cuidar mejor: taller de acond
 icionamiento físico para personas cuidadoras
DESCRIPTION:La Asociación Párkinson Galicia-Coruña organiza una nueva 
 charla dentro de su programa Escuela de cuidadores/as\, centrada en el cu
 idado físico de quienes acompañan y atienden a personas con párkinson 
 en su día a día.\nBajo el título “Taller de acondicionamiento físic
 o para personas cuidadoras”\, esta sesión abordará la importancia del 
 bienestar físico y las estrategias para afrontar las exigencias del cuida
 do diario.\nLa charla será impartida por Sandra García\, responsable del
  área de fisioterapia de la Asociación Párkinson Galicia-Coruña\, y te
 ndrá lugar el miércoles 29 de abril\, a las 16:00 horas\, en el Centro C
 ívico de Monelos\, aula 2 de la segunda planta (avda. de Monelos\, 2\, 1
 º A – A Coruña).\nEsta actividad forma parte del ciclo Escuela de cui
 dadores/as\, una iniciativa que desarrollamos con la colaboración de la F
 undación «la Caixa »\, y que tiene como objetivo ofrecer información\,
  apoyo y herramientas prácticas a quienes desempeñan labores de cuidado.
 \nLa asistencia es gratuita y está dirigida a cuidadoras y cuidadores de 
 personas con párkinson\, así como a familiares interesados en el cuidado
  del acondicionamiento físico.
ATTACH;FMTTYPE=image/jpeg:https://parkinsongaliciacoruna.org/wp-content/up
 loads/2026/04/2026_04_29-ESCUELA-DE-CUIDADORES-SANDRA.png
LOCATION:https://www.coruna.gal/sites/Satellite?c=Page&cid=1322783576553&it
 emID=1360635355410&itemType=Entidad&pagename=cultura%2FPage%2FGenerico-Pag
 e-Generica
END:VEVENT
END:VCALENDAR