BEGIN:VCALENDAR
VERSION:2.0
PRODID:-//wp-events-plugin.com//7.2.3.1//EN
BEGIN:VEVENT
UID:10@parkinsongaliciacoruna.org
DTSTART:20260325T170000Z
DTEND:20260325T183000Z
DTSTAMP:20260325T145413Z
URL:https://parkinsongaliciacoruna.org/agenda/escuela-de-cuidadores-cuidan
 do-la-salud-emocional-de-las-personas-con-parkinson/
SUMMARY:Escuela de cuidadores | Cuidando la salud emocional de las personas
  con Párkinson
DESCRIPTION:La Asociación Párkinson Galicia-Coruña organiza una nueva c
 harla dentro de su programa Escuela de cuidadores/as\, centrada en el cuid
 ado de la salud emocional de las personas con párkinson y de quienes las 
 acompañan en su día a día.\nBajo el título “Cuidando la salud emocio
 nal de las personas con párkinson”\, esta sesión abordará la importan
 cia del bienestar psicológico\, la gestión emocional y las estrategias p
 ara afrontar el impacto emocional de la enfermedad en las personas diagnos
 ticadas.\nLa charla será impartida por José Freire\, neuropsicólogo de 
 la Asociación Parkinson Galicia-Coruña\, y se celebrará el miércoles 
 25 de marzo\, a las 17:00 horas\, en el Centro Cívico de Monelos\, Aula U
 M3 de la primera planta (Avda. de Monelos\, 2 – A Coruña).\nEsta activi
 dad forma parte del ciclo Escuela de cuidadores/as\, una iniciativa que de
 sarrollamos con la colaboración de Fundación "la Caixa"\, y que tiene co
 mo objetivo ofrecer información\, apoyo y herramientas prácticas a las p
 ersonas cuidadoras.\nLa asistencia es gratuita y está dirigida a cuidador
 as y cuidadores de personas con párkinson\, así como a familiares intere
 sados en mejorar el acompañamiento emocional.
ATTACH;FMTTYPE=image/jpeg:https://parkinsongaliciacoruna.org/wp-content/up
 loads/2026/03/2026_03_25-JOSE-ESCUELA-DE-CUIDADORES.png
CATEGORIES:Formación
END:VEVENT
END:VCALENDAR