BEGIN:VCALENDAR
VERSION:2.0
PRODID:-//wp-events-plugin.com//7.2.3.1//EN
BEGIN:VEVENT
UID:13@parkinsongaliciacoruna.org
DTSTART:20260415T183000Z
DTEND:20260415T193000Z
DTSTAMP:20260408T104830Z
URL:https://parkinsongaliciacoruna.org/agenda/3199/
SUMMARY:Charla: Vivir con Parkinson hoy
DESCRIPTION:La Asociación Parkinson Galicia-Coruña participará en una nu
 eva sesión del Ciclo de Conferencias “Voz de Pacientes”\, organizado 
 por la Real Academia de Medicina de Galicia\, con una charla centrada en l
 a realidad actual de la enfermedad de Parkinson.\nBajo el título “Vivir
  con Parkinson hoy”\, la conferencia será impartida por José María Fr
 eire Duro\, responsable del área de Neuropsicología de nuestra entidad\,
  quien abordará el impacto de la enfermedad en la vida diaria\, los retos
  actuales y la importancia del acompañamiento especializado.\nLa sesión 
 contará con la presentación del Dr. Sergio Santos del Riego\, director d
 e UDC Saudable y académico correspondiente\, y se enmarca en el mes de co
 ncienciación sobre la enfermedad de Parkinson.\n📅 Fecha: miércoles\, 
 15 de abril de 2026🕡 Hora: 18:30 h📍 Lugar: Salón de Actos de la Rea
 l Academia de Medicina de Galicia(C/ Durán Loriga\, 10 – A Coruña)🎟
 ️ Entrada: abierta al público\nUna cita abierta a la ciudadanía que bu
 sca dar voz a las personas con Parkinson\, acercar la realidad de la enfer
 medad y fomentar el conocimiento y la sensibilización social.
ATTACH;FMTTYPE=image/jpeg:https://parkinsongaliciacoruna.org/wp-content/up
 loads/2026/04/CARTEL-PARKINSON-15-ABRIL-BRNB42200B1DCCE_000224-1_page-0001
 .jpg
END:VEVENT
END:VCALENDAR